Package: ddPCRclust Version: 1.26.0 Command: rm -rf ddPCRclust.buildbin-libdir && mkdir ddPCRclust.buildbin-libdir && /Users/biocbuild/BBS/utils/build-universal.sh ddPCRclust_1.26.0.tar.gz /Library/Frameworks/R.framework/Resources/bin/R ddPCRclust.buildbin-libdir StartedAt: 2025-02-01 14:35:57 -0500 (Sat, 01 Feb 2025) EndedAt: 2025-02-01 14:36:14 -0500 (Sat, 01 Feb 2025) EllapsedTime: 16.6 seconds RetCode: 0 Status: OK PackageFile: ddPCRclust_1.26.0.tgz PackageFileSize: 1.343 MiB