Package: ddPCRclust Version: 1.26.0 Command: /Library/Frameworks/R.framework/Resources/bin/R CMD check --install=check:ddPCRclust.install-out.txt --library=/Library/Frameworks/R.framework/Resources/library --no-vignettes --timings ddPCRclust_1.26.0.tar.gz StartedAt: 2025-01-31 16:51:34 -0500 (Fri, 31 Jan 2025) EndedAt: 2025-01-31 16:54:15 -0500 (Fri, 31 Jan 2025) EllapsedTime: 160.8 seconds RetCode: 0 Status: OK CheckDir: ddPCRclust.Rcheck Warnings: 0