Package: ddPCRclust Version: 1.26.0 Command: /Library/Frameworks/R.framework/Resources/bin/R CMD INSTALL ddPCRclust StartedAt: 2025-01-30 18:07:56 -0500 (Thu, 30 Jan 2025) EndedAt: 2025-01-30 18:08:10 -0500 (Thu, 30 Jan 2025) EllapsedTime: 14.1 seconds RetCode: 0 Status: OK