Package: ddPCRclust Version: 1.26.0 Command: /Library/Frameworks/R.framework/Resources/bin/R CMD INSTALL ddPCRclust StartedAt: 2025-01-30 16:39:28 -0500 (Thu, 30 Jan 2025) EndedAt: 2025-01-30 16:39:56 -0500 (Thu, 30 Jan 2025) EllapsedTime: 28.7 seconds RetCode: 0 Status: OK