Package: ddPCRclust Version: 1.26.0 Command: /home/biocbuild/bbs-3.20-bioc/R/bin/R CMD check --install=check:ddPCRclust.install-out.txt --library=/home/biocbuild/bbs-3.20-bioc/R/site-library --timings ddPCRclust_1.26.0.tar.gz StartedAt: 2025-01-30 21:25:06 -0500 (Thu, 30 Jan 2025) EndedAt: 2025-01-30 21:27:48 -0500 (Thu, 30 Jan 2025) EllapsedTime: 161.1 seconds RetCode: 0 Status: OK CheckDir: ddPCRclust.Rcheck Warnings: 0