Package: ddPCRclust Version: 1.26.0 Command: /home/biocbuild/bbs-3.20-bioc/R/bin/R CMD INSTALL ddPCRclust StartedAt: 2025-01-30 15:58:15 -0500 (Thu, 30 Jan 2025) EndedAt: 2025-01-30 15:58:26 -0500 (Thu, 30 Jan 2025) EllapsedTime: 11.5 seconds RetCode: 0 Status: OK