Package: ddPCRclust Version: 1.26.0 Command: rm -rf ddPCRclust.buildbin-libdir && mkdir ddPCRclust.buildbin-libdir && F:\biocbuild\bbs-3.20-bioc\R\bin\R.exe CMD INSTALL --build --library=ddPCRclust.buildbin-libdir ddPCRclust_1.26.0.tar.gz StartedAt: 2025-01-31 08:29:59 -0500 (Fri, 31 Jan 2025) EndedAt: 2025-01-31 08:30:28 -0500 (Fri, 31 Jan 2025) EllapsedTime: 28.5 seconds RetCode: 0 Status: OK PackageFile: ddPCRclust_1.26.0.zip PackageFileSize: 1.345 MiB