Package: ddPCRclust Version: 1.26.0 Command: /home/biocbuild/R/R/bin/R CMD build --keep-empty-dirs --no-resave-data ddPCRclust StartedAt: 2025-01-30 23:01:47 -0000 (Thu, 30 Jan 2025) EndedAt: 2025-01-30 23:02:26 -0000 (Thu, 30 Jan 2025) EllapsedTime: 39.0 seconds RetCode: 0 Status: OK PackageFile: ddPCRclust_1.26.0.tar.gz PackageFileSize: 1.181 MiB