Package: ddPCRclust Version: 1.26.0 Command: /home/biocbuild/R/R/bin/R CMD check --install=check:ddPCRclust.install-out.txt --library=/home/biocbuild/R/R/site-library --no-vignettes --timings ddPCRclust_1.26.0.tar.gz StartedAt: 2025-01-31 05:28:26 -0000 (Fri, 31 Jan 2025) EndedAt: 2025-01-31 05:31:38 -0000 (Fri, 31 Jan 2025) EllapsedTime: 192.2 seconds RetCode: 0 Status: OK CheckDir: ddPCRclust.Rcheck Warnings: 0