Package: ddPCRclust Version: 1.26.0 Command: /home/biocbuild/R/R/bin/R CMD INSTALL ddPCRclust StartedAt: 2025-01-30 21:03:35 -0000 (Thu, 30 Jan 2025) EndedAt: 2025-01-30 21:03:50 -0000 (Thu, 30 Jan 2025) EllapsedTime: 15.1 seconds RetCode: 0 Status: OK