Package: debCAM Version: 1.24.0 Command: rm -rf debCAM.buildbin-libdir && mkdir debCAM.buildbin-libdir && /Users/biocbuild/BBS/utils/build-universal.sh debCAM_1.24.0.tar.gz /Library/Frameworks/R.framework/Resources/bin/R debCAM.buildbin-libdir StartedAt: 2025-02-11 13:01:39 -0500 (Tue, 11 Feb 2025) EndedAt: 2025-02-11 13:02:09 -0500 (Tue, 11 Feb 2025) EllapsedTime: 30.3 seconds RetCode: 0 Status: OK PackageFile: debCAM_1.24.0.tgz PackageFileSize: 3.159 MiB