Package: debrowser Version: 1.34.0 Command: rm -rf debrowser.buildbin-libdir && mkdir debrowser.buildbin-libdir && /Users/biocbuild/BBS/utils/build-universal.sh debrowser_1.34.0.tar.gz /Library/Frameworks/R.framework/Resources/bin/R debrowser.buildbin-libdir StartedAt: 2025-02-05 15:31:10 -0500 (Wed, 05 Feb 2025) EndedAt: 2025-02-05 15:32:13 -0500 (Wed, 05 Feb 2025) EllapsedTime: 62.7 seconds RetCode: 0 Status: OK PackageFile: debrowser_1.34.0.tgz PackageFileSize: 18.64 MiB