Package: debrowser Version: 1.34.0 Command: /Library/Frameworks/R.framework/Resources/bin/R CMD check --install=check:debrowser.install-out.txt --library=/Library/Frameworks/R.framework/Resources/library --no-vignettes --timings debrowser_1.34.0.tar.gz StartedAt: 2025-02-04 17:20:10 -0500 (Tue, 04 Feb 2025) EndedAt: 2025-02-04 17:27:43 -0500 (Tue, 04 Feb 2025) EllapsedTime: 452.6 seconds RetCode: 0 Status: OK CheckDir: debrowser.Rcheck Warnings: 0