Package: debrowser Version: 1.34.0 Command: /Library/Frameworks/R.framework/Resources/bin/R CMD INSTALL debrowser StartedAt: 2025-02-03 17:41:52 -0500 (Mon, 03 Feb 2025) EndedAt: 2025-02-03 17:42:47 -0500 (Mon, 03 Feb 2025) EllapsedTime: 54.2 seconds RetCode: 0 Status: OK