Package: debrowser Version: 1.34.0 Command: rm -rf debrowser.buildbin-libdir && mkdir debrowser.buildbin-libdir && /Users/biocbuild/BBS/utils/build-universal.sh debrowser_1.34.0.tar.gz /Library/Frameworks/R.framework/Resources/bin/R debrowser.buildbin-libdir StartedAt: 2025-01-31 12:39:00 -0500 (Fri, 31 Jan 2025) EndedAt: 2025-01-31 12:40:49 -0500 (Fri, 31 Jan 2025) EllapsedTime: 109.6 seconds RetCode: 0 Status: OK PackageFile: debrowser_1.34.0.tgz PackageFileSize: 18.64 MiB