Package: debrowser Version: 1.34.0 Command: /home/biocbuild/bbs-3.20-bioc/R/bin/R CMD INSTALL debrowser StartedAt: 2025-01-30 15:53:00 -0500 (Thu, 30 Jan 2025) EndedAt: 2025-01-30 15:53:49 -0500 (Thu, 30 Jan 2025) EllapsedTime: 48.9 seconds RetCode: 0 Status: OK