Package: debrowser Version: 1.34.0 Command: rm -rf debrowser.buildbin-libdir && mkdir debrowser.buildbin-libdir && F:\biocbuild\bbs-3.20-bioc\R\bin\R.exe CMD INSTALL --build --library=debrowser.buildbin-libdir debrowser_1.34.0.tar.gz StartedAt: 2025-02-04 08:20:03 -0500 (Tue, 04 Feb 2025) EndedAt: 2025-02-04 08:22:06 -0500 (Tue, 04 Feb 2025) EllapsedTime: 123.1 seconds RetCode: 0 Status: OK PackageFile: debrowser_1.34.0.zip PackageFileSize: 18.64 MiB