Package: debrowser Version: 1.34.0 Command: /home/biocbuild/R/R/bin/R CMD INSTALL debrowser StartedAt: 2025-01-30 20:58:51 -0000 (Thu, 30 Jan 2025) EndedAt: 2025-01-30 20:59:47 -0000 (Thu, 30 Jan 2025) EllapsedTime: 55.9 seconds RetCode: 0 Status: OK