Package: decontam Version: 1.26.0 Command: /Library/Frameworks/R.framework/Resources/bin/R CMD check --install=check:decontam.install-out.txt --library=/Library/Frameworks/R.framework/Resources/library --no-vignettes --timings decontam_1.26.0.tar.gz StartedAt: 2025-02-04 02:23:38 -0500 (Tue, 04 Feb 2025) EndedAt: 2025-02-04 02:25:25 -0500 (Tue, 04 Feb 2025) EllapsedTime: 107.0 seconds RetCode: 0 Status: OK CheckDir: decontam.Rcheck Warnings: 0