Package: decontam Version: 1.26.0 Command: /Library/Frameworks/R.framework/Resources/bin/R CMD INSTALL decontam StartedAt: 2025-02-10 15:11:06 -0500 (Mon, 10 Feb 2025) EndedAt: 2025-02-10 15:11:17 -0500 (Mon, 10 Feb 2025) EllapsedTime: 11.5 seconds RetCode: 0 Status: OK