Package: decontam Version: 1.26.0 Command: /home/biocbuild/bbs-3.20-bioc/R/bin/R CMD build --keep-empty-dirs --no-resave-data --md5 decontam StartedAt: 2025-02-03 17:06:29 -0500 (Mon, 03 Feb 2025) EndedAt: 2025-02-03 17:06:55 -0500 (Mon, 03 Feb 2025) EllapsedTime: 26.1 seconds RetCode: 0 Status: OK PackageFile: decontam_1.26.0.tar.gz PackageFileSize: 703.1 KiB