Package: decontam Version: 1.26.0 Command: /home/biocbuild/bbs-3.20-bioc/R/bin/R CMD check --install=check:decontam.install-out.txt --library=/home/biocbuild/bbs-3.20-bioc/R/site-library --timings decontam_1.26.0.tar.gz StartedAt: 2025-02-03 21:36:18 -0500 (Mon, 03 Feb 2025) EndedAt: 2025-02-03 21:37:19 -0500 (Mon, 03 Feb 2025) EllapsedTime: 61.1 seconds RetCode: 0 Status: OK CheckDir: decontam.Rcheck Warnings: 0