Package: decontam Version: 1.26.0 Command: /home/biocbuild/bbs-3.20-bioc/R/bin/R CMD INSTALL decontam StartedAt: 2025-02-03 15:18:45 -0500 (Mon, 03 Feb 2025) EndedAt: 2025-02-03 15:18:48 -0500 (Mon, 03 Feb 2025) EllapsedTime: 3.6 seconds RetCode: 0 Status: OK