Package: decontam Version: 1.26.0 Command: chmod a+r decontam -R && F:\biocbuild\bbs-3.20-bioc\R\bin\R.exe CMD build --keep-empty-dirs --no-resave-data decontam StartedAt: 2025-02-03 18:32:23 -0500 (Mon, 03 Feb 2025) EndedAt: 2025-02-03 18:33:07 -0500 (Mon, 03 Feb 2025) EllapsedTime: 43.8 seconds RetCode: 0 Status: OK PackageFile: decontam_1.26.0.tar.gz PackageFileSize: 465.1 KiB