Package: decontam Version: 1.26.0 Command: /home/biocbuild/R/R/bin/R CMD build --keep-empty-dirs --no-resave-data decontam StartedAt: 2025-02-03 23:02:55 -0000 (Mon, 03 Feb 2025) EndedAt: 2025-02-03 23:03:32 -0000 (Mon, 03 Feb 2025) EllapsedTime: 37.0 seconds RetCode: 0 Status: OK PackageFile: decontam_1.26.0.tar.gz PackageFileSize: 538.7 KiB