Package: decontam Version: 1.26.0 Command: /home/biocbuild/R/R/bin/R CMD INSTALL decontam StartedAt: 2025-02-03 20:28:40 -0000 (Mon, 03 Feb 2025) EndedAt: 2025-02-03 20:28:46 -0000 (Mon, 03 Feb 2025) EllapsedTime: 5.8 seconds RetCode: 0 Status: OK