Package: deconvR Version: 1.12.0 Command: /Library/Frameworks/R.framework/Resources/bin/R CMD INSTALL deconvR StartedAt: 2025-02-03 17:58:56 -0500 (Mon, 03 Feb 2025) EndedAt: 2025-02-03 17:59:55 -0500 (Mon, 03 Feb 2025) EllapsedTime: 59.1 seconds RetCode: 0 Status: OK