Package: decoupleR Version: 2.12.0 Command: /Library/Frameworks/R.framework/Resources/bin/R CMD INSTALL decoupleR StartedAt: 2025-02-03 15:40:48 -0500 (Mon, 03 Feb 2025) EndedAt: 2025-02-03 15:41:08 -0500 (Mon, 03 Feb 2025) EllapsedTime: 19.9 seconds RetCode: 0 Status: OK