Package: decoupleR Version: 2.12.0 Command: /home/biocbuild/bbs-3.20-bioc/R/bin/R CMD build --keep-empty-dirs --no-resave-data --md5 decoupleR StartedAt: 2025-02-03 17:06:41 -0500 (Mon, 03 Feb 2025) EndedAt: 2025-02-03 17:08:34 -0500 (Mon, 03 Feb 2025) EllapsedTime: 112.1 seconds RetCode: 0 Status: OK PackageFile: decoupleR_2.12.0.tar.gz PackageFileSize: 5.003 MiB