Package: decoupleR Version: 2.12.0 Command: /home/biocbuild/bbs-3.20-bioc/R/bin/R CMD check --install=check:decoupleR.install-out.txt --library=/home/biocbuild/bbs-3.20-bioc/R/site-library --timings decoupleR_2.12.0.tar.gz StartedAt: 2025-02-03 21:36:54 -0500 (Mon, 03 Feb 2025) EndedAt: 2025-02-03 21:45:45 -0500 (Mon, 03 Feb 2025) EllapsedTime: 531.4 seconds RetCode: 0 Status: WARNINGS CheckDir: decoupleR.Rcheck Warnings: 1