Package: deepSNV Version: 1.52.0 Command: rm -rf deepSNV.buildbin-libdir && mkdir deepSNV.buildbin-libdir && /Users/biocbuild/BBS/utils/build-universal.sh deepSNV_1.52.0.tar.gz /Library/Frameworks/R.framework/Resources/bin/R deepSNV.buildbin-libdir StartedAt: 2025-02-05 15:31:28 -0500 (Wed, 05 Feb 2025) EndedAt: 2025-02-05 15:32:27 -0500 (Wed, 05 Feb 2025) EllapsedTime: 58.3 seconds RetCode: 0 Status: OK PackageFile: deepSNV_1.52.0.tgz PackageFileSize: 3.311 MiB