Package: deepSNV Version: 1.52.0 Command: /Library/Frameworks/R.framework/Resources/bin/R CMD check --install=check:deepSNV.install-out.txt --library=/Library/Frameworks/R.framework/Resources/library --no-vignettes --timings deepSNV_1.52.0.tar.gz StartedAt: 2025-02-11 17:06:34 -0500 (Tue, 11 Feb 2025) EndedAt: 2025-02-11 17:12:37 -0500 (Tue, 11 Feb 2025) EllapsedTime: 363.0 seconds RetCode: 0 Status: OK CheckDir: deepSNV.Rcheck Warnings: 0