Package: deepSNV Version: 1.52.0 Command: /Library/Frameworks/R.framework/Resources/bin/R CMD build --keep-empty-dirs --no-resave-data deepSNV StartedAt: 2025-02-03 18:21:39 -0500 (Mon, 03 Feb 2025) EndedAt: 2025-02-03 18:24:34 -0500 (Mon, 03 Feb 2025) EllapsedTime: 174.5 seconds RetCode: 0 Status: OK PackageFile: deepSNV_1.52.0.tar.gz PackageFileSize: 2.529 MiB