Package: deepSNV Version: 1.52.0 Command: /Library/Frameworks/R.framework/Resources/bin/R CMD INSTALL deepSNV StartedAt: 2025-02-10 15:38:54 -0500 (Mon, 10 Feb 2025) EndedAt: 2025-02-10 15:40:28 -0500 (Mon, 10 Feb 2025) EllapsedTime: 93.9 seconds RetCode: 0 Status: OK