Package: deepSNV Version: 1.52.0 Command: /home/biocbuild/bbs-3.20-bioc/R/bin/R CMD build --keep-empty-dirs --no-resave-data --md5 deepSNV StartedAt: 2025-02-03 17:06:55 -0500 (Mon, 03 Feb 2025) EndedAt: 2025-02-03 17:08:07 -0500 (Mon, 03 Feb 2025) EllapsedTime: 72.1 seconds RetCode: 0 Status: OK PackageFile: deepSNV_1.52.0.tar.gz PackageFileSize: 2.467 MiB