Package: deepSNV Version: 1.52.0 Command: /home/biocbuild/bbs-3.20-bioc/R/bin/R CMD check --install=check:deepSNV.install-out.txt --library=/home/biocbuild/bbs-3.20-bioc/R/site-library --timings deepSNV_1.52.0.tar.gz StartedAt: 2025-02-10 21:30:20 -0500 (Mon, 10 Feb 2025) EndedAt: 2025-02-10 21:36:24 -0500 (Mon, 10 Feb 2025) EllapsedTime: 363.3 seconds RetCode: 0 Status: OK CheckDir: deepSNV.Rcheck Warnings: 0