Package: deepSNV Version: 1.52.0 Command: /home/biocbuild/bbs-3.20-bioc/R/bin/R CMD INSTALL deepSNV StartedAt: 2025-02-10 15:30:51 -0500 (Mon, 10 Feb 2025) EndedAt: 2025-02-10 15:31:34 -0500 (Mon, 10 Feb 2025) EllapsedTime: 42.4 seconds RetCode: 0 Status: OK