Package: deepSNV Version: 1.52.0 Command: chmod a+r deepSNV -R && F:\biocbuild\bbs-3.20-bioc\R\bin\R.exe CMD build --keep-empty-dirs --no-resave-data deepSNV StartedAt: 2025-02-03 18:34:16 -0500 (Mon, 03 Feb 2025) EndedAt: 2025-02-03 18:36:47 -0500 (Mon, 03 Feb 2025) EllapsedTime: 150.7 seconds RetCode: 0 Status: OK PackageFile: deepSNV_1.52.0.tar.gz PackageFileSize: 2.322 MiB