Package: deepSNV Version: 1.52.0 Command: F:\biocbuild\bbs-3.20-bioc\R\bin\R.exe CMD check --no-multiarch --install=check:deepSNV.install-out.txt --library=F:\biocbuild\bbs-3.20-bioc\R\library --no-vignettes --timings deepSNV_1.52.0.tar.gz StartedAt: 2025-02-04 00:59:10 -0500 (Tue, 04 Feb 2025) EndedAt: 2025-02-04 01:06:59 -0500 (Tue, 04 Feb 2025) EllapsedTime: 469.4 seconds RetCode: 0 Status: OK CheckDir: deepSNV.Rcheck Warnings: 0