Package: deepSNV Version: 1.52.0 Command: /home/biocbuild/R/R/bin/R CMD build --keep-empty-dirs --no-resave-data deepSNV StartedAt: 2025-02-10 22:51:33 -0000 (Mon, 10 Feb 2025) EndedAt: 2025-02-10 22:53:01 -0000 (Mon, 10 Feb 2025) EllapsedTime: 88.0 seconds RetCode: 0 Status: OK PackageFile: deepSNV_1.52.0.tar.gz PackageFileSize: 2.446 MiB