Package: deltaCaptureC Version: 1.20.0 Command: /Library/Frameworks/R.framework/Resources/bin/R CMD build --keep-empty-dirs --no-resave-data deltaCaptureC StartedAt: 2025-02-03 22:18:00 -0500 (Mon, 03 Feb 2025) EndedAt: 2025-02-03 22:20:04 -0500 (Mon, 03 Feb 2025) EllapsedTime: 124.0 seconds RetCode: 0 Status: OK PackageFile: deltaCaptureC_1.20.0.tar.gz PackageFileSize: 365.5 KiB