Package: deltaCaptureC Version: 1.20.0 Command: /Library/Frameworks/R.framework/Resources/bin/R CMD INSTALL deltaCaptureC StartedAt: 2025-02-03 15:50:51 -0500 (Mon, 03 Feb 2025) EndedAt: 2025-02-03 15:51:28 -0500 (Mon, 03 Feb 2025) EllapsedTime: 37.2 seconds RetCode: 0 Status: OK