Package: deltaCaptureC Version: 1.20.0 Command: /Library/Frameworks/R.framework/Resources/bin/R CMD build --keep-empty-dirs --no-resave-data deltaCaptureC StartedAt: 2025-02-03 18:24:28 -0500 (Mon, 03 Feb 2025) EndedAt: 2025-02-03 18:29:38 -0500 (Mon, 03 Feb 2025) EllapsedTime: 310.1 seconds RetCode: 0 Status: OK PackageFile: deltaCaptureC_1.20.0.tar.gz PackageFileSize: 365.6 KiB