Package: deltaCaptureC Version: 1.20.0 Command: /home/biocbuild/bbs-3.20-bioc/R/bin/R CMD build --keep-empty-dirs --no-resave-data --md5 deltaCaptureC StartedAt: 2025-02-10 17:01:29 -0500 (Mon, 10 Feb 2025) EndedAt: 2025-02-10 17:03:28 -0500 (Mon, 10 Feb 2025) EllapsedTime: 119.1 seconds RetCode: 0 Status: OK PackageFile: deltaCaptureC_1.20.0.tar.gz PackageFileSize: 358.2 KiB