Package: deltaCaptureC Version: 1.20.0 Command: /home/biocbuild/bbs-3.20-bioc/R/bin/R CMD check --install=check:deltaCaptureC.install-out.txt --library=/home/biocbuild/bbs-3.20-bioc/R/site-library --timings deltaCaptureC_1.20.0.tar.gz StartedAt: 2025-02-03 21:42:22 -0500 (Mon, 03 Feb 2025) EndedAt: 2025-02-03 21:48:14 -0500 (Mon, 03 Feb 2025) EllapsedTime: 352.4 seconds RetCode: 0 Status: OK CheckDir: deltaCaptureC.Rcheck Warnings: 0