Package: deltaCaptureC Version: 1.20.0 Command: rm -rf deltaCaptureC.buildbin-libdir && mkdir deltaCaptureC.buildbin-libdir && F:\biocbuild\bbs-3.20-bioc\R\bin\R.exe CMD INSTALL --build --library=deltaCaptureC.buildbin-libdir deltaCaptureC_1.20.0.tar.gz StartedAt: 2025-01-31 08:31:23 -0500 (Fri, 31 Jan 2025) EndedAt: 2025-01-31 08:32:47 -0500 (Fri, 31 Jan 2025) EllapsedTime: 84.2 seconds RetCode: 0 Status: OK PackageFile: deltaCaptureC_1.20.0.zip PackageFileSize: 597.9 KiB