Package: deltaCaptureC Version: 1.20.0 Command: chmod a+r deltaCaptureC -R && F:\biocbuild\bbs-3.20-bioc\R\bin\R.exe CMD build --keep-empty-dirs --no-resave-data deltaCaptureC StartedAt: 2025-02-03 18:36:59 -0500 (Mon, 03 Feb 2025) EndedAt: 2025-02-03 18:39:40 -0500 (Mon, 03 Feb 2025) EllapsedTime: 160.5 seconds RetCode: 0 Status: OK PackageFile: deltaCaptureC_1.20.0.tar.gz PackageFileSize: 326.6 KiB