Package: deltaCaptureC Version: 1.20.0 Command: F:\biocbuild\bbs-3.20-bioc\R\bin\R.exe CMD INSTALL deltaCaptureC StartedAt: 2025-02-03 16:25:01 -0500 (Mon, 03 Feb 2025) EndedAt: 2025-02-03 16:26:20 -0500 (Mon, 03 Feb 2025) EllapsedTime: 78.7 seconds RetCode: 0 Status: OK