Package: deltaCaptureC Version: 1.20.0 Command: /home/biocbuild/R/R/bin/R CMD build --keep-empty-dirs --no-resave-data deltaCaptureC StartedAt: 2025-01-30 23:06:03 -0000 (Thu, 30 Jan 2025) EndedAt: 2025-01-30 23:08:47 -0000 (Thu, 30 Jan 2025) EllapsedTime: 164.1 seconds RetCode: 0 Status: OK PackageFile: deltaCaptureC_1.20.0.tar.gz PackageFileSize: 330.8 KiB