Package: demuxSNP Version: 1.4.0 Command: rm -rf demuxSNP.buildbin-libdir && mkdir demuxSNP.buildbin-libdir && /Users/biocbuild/BBS/utils/build-universal.sh demuxSNP_1.4.0.tar.gz /Library/Frameworks/R.framework/Resources/bin/R demuxSNP.buildbin-libdir StartedAt: 2025-02-01 14:38:15 -0500 (Sat, 01 Feb 2025) EndedAt: 2025-02-01 14:39:12 -0500 (Sat, 01 Feb 2025) EllapsedTime: 57.6 seconds RetCode: 0 Status: OK PackageFile: demuxSNP_1.4.0.tgz PackageFileSize: 1.966 MiB